BEGIN:VCALENDAR
VERSION:2.0
PRODID:-//Tukios.com/
BEGIN:VEVENT
UID:12577279-4da4-457f-9d0d-44299c061603@www.since1928hull.com
DTSTAMP:20260424T200037Z
DTSTART:20260428T200000Z
DTEND:20260428T210000Z
SUMMARY:Burial
DESCRIPTION:
URL:https://www.since1928hull.com/obituaries/robert-bob-simmons
LOCATION:Eagle Point National Cemetery 2763 Riley Rd  Eagle Point OR 
	97524
GEO:42.463666;-122.7884419
END:VEVENT
END:VCALENDAR